BEGIN:VCALENDAR
VERSION:2.0
PRODID:-//Chalaza Valkenburg - ECPv6.15.17.1//NONSGML v1.0//EN
CALSCALE:GREGORIAN
METHOD:PUBLISH
X-WR-CALNAME:Chalaza Valkenburg
X-ORIGINAL-URL:https://chalaza.nl
X-WR-CALDESC:Evenementen voor Chalaza Valkenburg
REFRESH-INTERVAL;VALUE=DURATION:PT1H
X-Robots-Tag:noindex
X-PUBLISHED-TTL:PT1H
BEGIN:VTIMEZONE
TZID:UTC
BEGIN:STANDARD
TZOFFSETFROM:+0000
TZOFFSETTO:+0000
TZNAME:UTC
DTSTART:20250101T000000
END:STANDARD
END:VTIMEZONE
BEGIN:VEVENT
DTSTART;TZID=UTC:20260301T080000
DTEND;TZID=UTC:20260607T170000
DTSTAMP:20260423T085347
CREATED:20260227T120240Z
LAST-MODIFIED:20260227T120240Z
UID:2465-1772352000-1780851600@chalaza.nl
SUMMARY:Stads Expo Alledaagse Mensen
DESCRIPTION:De ‘Alledaagse Mensen’ die in 2024 de harten van bezoekers en inwoners wisten te veroveren\, keren in 2026 terug naar Valkenburg. Unieke kunstwerken die laten zien hoe kunst verrassend dicht bij ons dagelijks leven kan staan.\n\n\nDe Alltagsmenschen\, of Alledaagse Mensen\, zijn levensgrote betonnen beelden van mensen in alledaagse situaties\, gemaakt door de Duitse kunstenaars Christel en Laura Lechner. Deze beelden stralen warmte\, humor en herkenning uit\, waardoor ze een glimlach op het gezicht van voorbijgangers toveren.\n\nHet merendeel van de beelden zal nog niet eerder in Valkenburg te zien zijn geweest\, maar ook een paar favorieten van twee jaar geleden zullen terugkeren.\n\nWandel door de charmante straten van Valkenburg aan de Geul en ontdek de diverse Alledaagse Mensen die her en der verspreid staan. Elk beeld vertelt een verhaal en nodigt uit tot interactie.
URL:https://chalaza.nl/events/stads-expo-alledaagse-mensen/
ATTACH;FMTTYPE=image/webp:https://chalaza.nl/wp-content/uploads/2026/02/Alltagsmenschen-Valkenburg-2024-Visit-Zuid-Limburg-9.webp
END:VEVENT
BEGIN:VEVENT
DTSTART;TZID=UTC:20260408T080000
DTEND;TZID=UTC:20260523T170000
DTSTAMP:20260423T085347
CREATED:20240904T072711Z
LAST-MODIFIED:20260305T134044Z
UID:594-1775635200-1779555600@chalaza.nl
SUMMARY:Chalaza Speciale Sluitingsdata
DESCRIPTION:Soms moeten we andere dingen doen. \nDaarom zijn we extra gesloten op woensdag 8\, april omdat we Paasmaandag  6 april extra Open zijn. \nEn daarom gaan we zaterdag 23 mei dicht omdat we op Pinkstermaandag 25 mei extra Open zijn. \nDus. Dan weten jullie dat…
URL:https://chalaza.nl/events/chalaza-gesloten-wegens-korte-vakantie/
ATTACH;FMTTYPE=image/jpeg:https://chalaza.nl/wp-content/uploads/2024/09/lievelinge1.jpg
END:VEVENT
BEGIN:VEVENT
DTSTART;VALUE=DATE:20260425
DTEND;VALUE=DATE:20260601
DTSTAMP:20260423T085347
CREATED:20250210T162412Z
LAST-MODIFIED:20260227T121624Z
UID:1006-1777075200-1780271999@chalaza.nl
SUMMARY:Meidenfeest  Jónkheid Boete de Paort
DESCRIPTION:Mei-denfeest  of Den planting\nJónkheid Boete de Paort \n  \nHele dag spektakel in en rond het Grendelplein en de traditionele  Jonkheid expo bij Chalaza. \nDe expo is de gehele maand mei te zien\, tot de dag van het neerhalen van de mei bomen.
URL:https://chalaza.nl/events/meidenfeest-jonkheid-boete-de-paort/
ATTACH;FMTTYPE=image/jpeg:https://chalaza.nl/wp-content/uploads/2025/02/jonkheid2.jpg
END:VEVENT
BEGIN:VEVENT
DTSTART;TZID=UTC:20260516T193000
DTEND;TZID=UTC:20260517T030000
DTSTAMP:20260423T085347
CREATED:20240904T073102Z
LAST-MODIFIED:20260227T120525Z
UID:597-1778959800-1778986800@chalaza.nl
SUMMARY:De jongens van de Invasie!
DESCRIPTION:De jongens van de Invasie komen wederom naar Chalaza. \nGeweldig! \nErik en Vincent Grov\, dertig jaar vriendschap door een diepe liefde voor elektronisch muziek\, in het hele brede spectrum van Dancemusic.\nDe naam komt van het radioprogramma\, de Invasie\, dat ze jarenlang verzorgden op radio Banzai. \nDe heren draaien back to back\, oldfashioned op vinyl. \n \n 
URL:https://chalaza.nl/events/de-invasie/
ATTACH;FMTTYPE=image/jpeg:https://chalaza.nl/wp-content/uploads/2024/09/grov.jpg
END:VEVENT
BEGIN:VEVENT
DTSTART;TZID=UTC:20261018T120000
DTEND;TZID=UTC:20261018T230000
DTSTAMP:20260423T085347
CREATED:20240622T121153Z
LAST-MODIFIED:20260227T115442Z
UID:299-1792324800-1792364400@chalaza.nl
SUMMARY:Bok & Blues Valkenburg
DESCRIPTION:Bok ’n Blues is onderdeel van de Valkenburgse Bokkenweken. \nDeze weken gaan over van alles.\nDe Bokkemarkt.\nHet binnenrijden van het eerste vaatje bokbier\,\nAandacht voor het rijke bokkerijders verleden. \nMaar zet deze in je agenda\, zondag 18 oktober\, Bok ’n Blues \nVolledige informatie: https://www.facebook.com/BOKNBLUES \n \n 
URL:https://chalaza.nl/events/bok-bleus-valkenburg/
ATTACH;FMTTYPE=image/jpeg:https://chalaza.nl/wp-content/uploads/2024/06/boknblueslogo.jpg
END:VEVENT
END:VCALENDAR